BEGIN:VCALENDAR
VERSION:2.0
PRODID:-//ChamberMaster//Event Calendar 2.0//EN
METHOD:PUBLISH
X-PUBLISHED-TTL:P3D
REFRESH-INTERVAL:P3D
CALSCALE:GREGORIAN
BEGIN:VEVENT
DTSTART:20081114T050000Z
DTEND:20081114T050000Z
X-MICROSOFT-CDO-ALLDAYEVENT:FALSE
SUMMARY:BANCF Golf Classic - Sponsor 2008
DESCRIPTION:
X-ALT-DESC;FMTTYPE=text/html:
LOCATION:\, FL
UID:e.9596.661
SEQUENCE:3
DTSTAMP:20260420T145730Z
URL:https://members.bancf.com/events/details/bancf-golf-classic-sponsor-2008-11-14-2008-661
END:VEVENT

END:VCALENDAR
