BEGIN:VCALENDAR
VERSION:2.0
PRODID:-//ChamberMaster//Event Calendar 2.0//EN
METHOD:PUBLISH
X-PUBLISHED-TTL:P3D
REFRESH-INTERVAL:P3D
CALSCALE:GREGORIAN
BEGIN:VEVENT
DTSTART:20081016T213000Z
DTEND:20081016T040000Z
X-MICROSOFT-CDO-ALLDAYEVENT:FALSE
SUMMARY:BANCF Horseshoe Mixer - Sponsor
DESCRIPTION:
X-ALT-DESC;FMTTYPE=text/html:
LOCATION:\, FL
UID:e.9596.881
SEQUENCE:3
DTSTAMP:20260420T161331Z
URL:https://members.bancf.com/events/details/bancf-horseshoe-mixer-sponsor-10-16-2008-881
END:VEVENT

END:VCALENDAR
