BEGIN:VCALENDAR
VERSION:2.0
PRODID:-//ChamberMaster//Event Calendar 2.0//EN
METHOD:PUBLISH
X-PUBLISHED-TTL:P3D
REFRESH-INTERVAL:P3D
CALSCALE:GREGORIAN
BEGIN:VEVENT
DTSTART:20090406T154500Z
DTEND:20090406T170000Z
X-MICROSOFT-CDO-ALLDAYEVENT:FALSE
SUMMARY:City Codes
DESCRIPTION:Meetings are reserved for members and their guests.  For more information\, please contact the BANCF office at (352) 372-5649.
X-ALT-DESC;FMTTYPE=text/html:<p><font face="Arial" size="1"><span style="font-size: 9pt\; font-family: Arial">Meetings are reserved for members and their guests.&nbsp\; For more information\, please contact the BANCF office at (352) 372-5649.<o:p></o:p></span></font></p>
LOCATION:
UID:e.9596.1443
SEQUENCE:3
DTSTAMP:20260420T041423Z
URL:https://members.bancf.com/events/details/city-codes-04-06-2009-1443
END:VEVENT

END:VCALENDAR
