BEGIN:VCALENDAR
VERSION:2.0
PRODID:-//ChamberMaster//Event Calendar 2.0//EN
METHOD:PUBLISH
X-PUBLISHED-TTL:P3D
REFRESH-INTERVAL:P3D
CALSCALE:GREGORIAN
BEGIN:VEVENT
DTSTART:20091005T154500Z
DTEND:20091005T170000Z
X-MICROSOFT-CDO-ALLDAYEVENT:FALSE
SUMMARY:City Codes
DESCRIPTION:Meetings are reserved for members and their guests.  For more information\, please contact the BANCF office at (352) 372-5649.
X-ALT-DESC;FMTTYPE=text/html:<p><font face="Tahoma" size="3"><span style="font-size: 12pt\; font-family: Tahoma\; mso-fareast-font-family: &rsquo\;&rsquo\;Times New Roman&rsquo\;&rsquo\;">Meetings are reserved for members and their guests.&nbsp\; For more information\, please contact the BANCF office at (352) 372-5649.<o:p></o:p></span></font></p>
LOCATION:
UID:e.9596.1449
SEQUENCE:3
DTSTAMP:20260419T195408Z
URL:https://members.bancf.com/events/details/city-codes-10-05-2009-1449
END:VEVENT

END:VCALENDAR
