BEGIN:VCALENDAR
VERSION:2.0
PRODID:-//ChamberMaster//Event Calendar 2.0//EN
METHOD:PUBLISH
X-PUBLISHED-TTL:P3D
REFRESH-INTERVAL:P3D
CALSCALE:GREGORIAN
BEGIN:VEVENT
DTSTART:20080804T154500Z
DTEND:20080804T170000Z
X-MICROSOFT-CDO-ALLDAYEVENT:FALSE
SUMMARY:City Codes - August 2008
DESCRIPTION:
X-ALT-DESC;FMTTYPE=text/html:
LOCATION:\, FL
UID:e.9596.761
SEQUENCE:3
DTSTAMP:20260420T201150Z
URL:https://members.bancf.com/events/details/city-codes-august-2008-08-04-2008-761
END:VEVENT

END:VCALENDAR
