BEGIN:VCALENDAR
VERSION:2.0
PRODID:-//ChamberMaster//Event Calendar 2.0//EN
METHOD:PUBLISH
X-PUBLISHED-TTL:P3D
REFRESH-INTERVAL:P3D
CALSCALE:GREGORIAN
BEGIN:VEVENT
DTSTART:20080303T164500Z
DTEND:20080303T180000Z
X-MICROSOFT-CDO-ALLDAYEVENT:FALSE
SUMMARY:City Codes - March 2008
DESCRIPTION:
X-ALT-DESC;FMTTYPE=text/html:
LOCATION:\, FL
UID:e.9596.321
SEQUENCE:3
DTSTAMP:20260421T055356Z
URL:https://members.bancf.com/events/details/city-codes-march-2008-03-03-2008-321
END:VEVENT

END:VCALENDAR
