BEGIN:VCALENDAR
VERSION:2.0
PRODID:-//ChamberMaster//Event Calendar 2.0//EN
METHOD:PUBLISH
X-PUBLISHED-TTL:P3D
REFRESH-INTERVAL:P3D
CALSCALE:GREGORIAN
BEGIN:VEVENT
DTSTART:20080326T154500Z
DTEND:20080326T170000Z
X-MICROSOFT-CDO-ALLDAYEVENT:FALSE
SUMMARY:Commercial Builders Council - March 2008
DESCRIPTION:
X-ALT-DESC;FMTTYPE=text/html:
LOCATION:\, FL
UID:e.9596.361
SEQUENCE:3
DTSTAMP:20260421T042344Z
URL:https://members.bancf.com/events/details/commercial-builders-council-march-2008-03-26-2008-361
END:VEVENT

END:VCALENDAR
