BEGIN:VCALENDAR
VERSION:2.0
PRODID:-//ChamberMaster//Event Calendar 2.0//EN
METHOD:PUBLISH
X-PUBLISHED-TTL:P3D
REFRESH-INTERVAL:P3D
CALSCALE:GREGORIAN
BEGIN:VEVENT
DTSTART:20080528T154500Z
DTEND:20080528T170000Z
X-MICROSOFT-CDO-ALLDAYEVENT:FALSE
SUMMARY:Commercial Builders Council - May 2008
DESCRIPTION:
X-ALT-DESC;FMTTYPE=text/html:
LOCATION:\, FL
UID:e.9596.541
SEQUENCE:3
DTSTAMP:20260421T025404Z
URL:https://members.bancf.com/events/details/commercial-builders-council-may-2008-05-28-2008-541
END:VEVENT

END:VCALENDAR
