BEGIN:VCALENDAR
VERSION:2.0
PRODID:-//ChamberMaster//Event Calendar 2.0//EN
METHOD:PUBLISH
X-PUBLISHED-TTL:P3D
REFRESH-INTERVAL:P3D
CALSCALE:GREGORIAN
BEGIN:VEVENT
DTSTART:20080715T040000Z
DTEND:20080715T040000Z
X-MICROSOFT-CDO-ALLDAYEVENT:FALSE
SUMMARY:Continuing Education Part 2 - July 2008
DESCRIPTION:
X-ALT-DESC;FMTTYPE=text/html:
LOCATION:\, FL
UID:e.9596.621
SEQUENCE:3
DTSTAMP:20260420T233356Z
URL:https://members.bancf.com/events/details/continuing-education-part-2-july-2008-07-15-2008-621
END:VEVENT

END:VCALENDAR
