BEGIN:VCALENDAR
VERSION:2.0
PRODID:-//ChamberMaster//Event Calendar 2.0//EN
METHOD:PUBLISH
X-PUBLISHED-TTL:P3D
REFRESH-INTERVAL:P3D
CALSCALE:GREGORIAN
BEGIN:VEVENT
DTSTART:20080811T154500Z
DTEND:20080811T170000Z
X-MICROSOFT-CDO-ALLDAYEVENT:FALSE
SUMMARY:County Codes - August 2008
DESCRIPTION:
X-ALT-DESC;FMTTYPE=text/html:
LOCATION:\, FL
UID:e.9596.782
SEQUENCE:3
DTSTAMP:20260420T214923Z
URL:https://members.bancf.com/events/details/county-codes-august-2008-08-11-2008-782
END:VEVENT

END:VCALENDAR
