BEGIN:VCALENDAR
VERSION:2.0
PRODID:-//ChamberMaster//Event Calendar 2.0//EN
METHOD:PUBLISH
X-PUBLISHED-TTL:P3D
REFRESH-INTERVAL:P3D
CALSCALE:GREGORIAN
BEGIN:VEVENT
DTSTART:20090303T164500Z
DTEND:20090303T180000Z
X-MICROSOFT-CDO-ALLDAYEVENT:FALSE
SUMMARY:Executive Committee
DESCRIPTION:Meetings are reserved for members and their guests.  For more information\, please contact the BANCF office at (352) 372-5649.
X-ALT-DESC;FMTTYPE=text/html:<p><span style="font-size: 12pt\; font-family: Tahoma\; mso-fareast-font-family: &rsquo\;Times New Roman&rsquo\;\; mso-fareast-language: EN-US\; mso-ansi-language: EN-US\; mso-bidi-language: AR-SA">Meetings are reserved for members and their guests.&nbsp\; For more information\, please contact the BANCF office at (352) 372-5649.</span></p>
LOCATION:
UID:e.9596.1423
SEQUENCE:3
DTSTAMP:20260420T075720Z
URL:https://members.bancf.com/events/details/executive-committee-03-03-2009-1423
END:VEVENT

END:VCALENDAR
