BEGIN:VCALENDAR
VERSION:2.0
PRODID:-//ChamberMaster//Event Calendar 2.0//EN
METHOD:PUBLISH
X-PUBLISHED-TTL:P3D
REFRESH-INTERVAL:P3D
CALSCALE:GREGORIAN
BEGIN:VEVENT
DTSTART:20090901T154500Z
DTEND:20090901T170000Z
X-MICROSOFT-CDO-ALLDAYEVENT:FALSE
SUMMARY:Executive Committee
DESCRIPTION:\\r\\n \\r\\n\\r\\nMeetings are reserved for members and their guests.  For more information\, please contact the BANCF office at (352) 372-5649.
X-ALT-DESC;FMTTYPE=text/html:<p><span style="font-family: Tahoma" />\\r\\n<p>&nbsp\;</p>\\r\\n</p>\\r\\n<p><font face="Tahoma" size="3"><span style="font-size: 12pt\; font-family: Tahoma\; mso-fareast-font-family: &rsquo\;&rsquo\;Times New Roman&rsquo\;&rsquo\;">Meetings are reserved for members and their guests.&nbsp\; For more information\, please contact the BANCF office at (352) 372-5649.<o:p></o:p></span></font></p>
LOCATION:
UID:e.9596.1428
SEQUENCE:3
DTSTAMP:20260419T195441Z
URL:https://members.bancf.com/events/details/executive-committee-09-01-2009-1428
END:VEVENT

END:VCALENDAR
