BEGIN:VCALENDAR
VERSION:2.0
PRODID:-//ChamberMaster//Event Calendar 2.0//EN
METHOD:PUBLISH
X-PUBLISHED-TTL:P3D
REFRESH-INTERVAL:P3D
CALSCALE:GREGORIAN
BEGIN:VEVENT
DTSTART:20080502T040000Z
DTEND:20080504T040000Z
X-MICROSOFT-CDO-ALLDAYEVENT:FALSE
SUMMARY:Family Fishing Weekend - Registration 2008
DESCRIPTION:
X-ALT-DESC;FMTTYPE=text/html:
LOCATION:\, FL
UID:e.9596.241
SEQUENCE:3
DTSTAMP:20260421T011059Z
URL:https://members.bancf.com/events/details/family-fishing-weekend-registration-2008-05-02-2008-241
END:VEVENT

END:VCALENDAR
