BEGIN:VCALENDAR
VERSION:2.0
PRODID:-//ChamberMaster//Event Calendar 2.0//EN
METHOD:PUBLISH
X-PUBLISHED-TTL:P3D
REFRESH-INTERVAL:P3D
CALSCALE:GREGORIAN
BEGIN:VEVENT
DTSTART:20090615T154500Z
DTEND:20090615T170000Z
X-MICROSOFT-CDO-ALLDAYEVENT:FALSE
SUMMARY:Gainesville Regional Utilities Liaison
DESCRIPTION:\\r\\n \\r\\n\\r\\n\\r\\nMeetings are reserved for members and their guests.  For more information\, please contact the BANCF office at (352) 372-5649.\\r
X-ALT-DESC;FMTTYPE=text/html:<p><font face="Tahoma" size="3"><span style="font-size: 12pt\; font-family: Tahoma\; mso-fareast-font-family: &rsquo\;&rsquo\;Times New Roman&rsquo\;&rsquo\;" /></font>\\r\\n<p>&nbsp\;</p>\\r\\n</p>\\r\\n<p><font face="Tahoma" size="3"><span style="font-size: 12pt\; font-family: Tahoma\; mso-fareast-font-family: &rsquo\;&rsquo\;Times New Roman&rsquo\;&rsquo\;">\\r\\n<p><font face="Tahoma" size="3"><span style="font-size: 12pt\; font-family: Tahoma\; mso-fareast-font-family: &rsquo\;&rsquo\;Times New Roman&rsquo\;&rsquo\;">Meetings are reserved for members and their guests.&nbsp\; For more information\, please contact the BANCF office at (352) 372-5649.<o:p></o:p></span></font></p>\\r\\n<o:p></o:p></span></font></p>
LOCATION:
UID:e.9596.1482
SEQUENCE:3
DTSTAMP:20260420T012631Z
URL:https://members.bancf.com/events/details/gainesville-regional-utilities-liaison-06-15-2009-1482
END:VEVENT

END:VCALENDAR
