BEGIN:VCALENDAR
VERSION:2.0
PRODID:-//ChamberMaster//Event Calendar 2.0//EN
METHOD:PUBLISH
X-PUBLISHED-TTL:P3D
REFRESH-INTERVAL:P3D
CALSCALE:GREGORIAN
BEGIN:VEVENT
DTSTART:20090916T160000Z
DTEND:20090916T170000Z
X-MICROSOFT-CDO-ALLDAYEVENT:FALSE
SUMMARY:Golf Tournament Committee
DESCRIPTION:Committee Meetings are held to plan the Annual Golf Tournament.  If you'd like to be a part of the committee\, please contact the BANCF office at (352) 372-5649 or beth@bancf.com.
X-ALT-DESC;FMTTYPE=text/html:<p class="MsoSubtitle" style="margin: 0in 0in 0pt"><font size="3"><font face="Times New Roman"><span style="font-weight: normal">Committee Meetings are held to plan the </span><strong>Annual Golf Tournament.&nbsp\; </strong>If you&rsquo\;d like to be a part of the committee\, please contact the BANCF office at (352) 372-5649 or <a href="mailto:beth@bancf.com">beth@bancf.com</a>.&nbsp\; </font></font></p>
LOCATION:Builders Association of North Central Florida 2217 NW 66th Court Gainesville\, FL 32653
UID:e.9596.2102
SEQUENCE:3
DTSTAMP:20260419T200904Z
URL:https://members.bancf.com/events/details/golf-tournament-committee-09-16-2009-2102
END:VEVENT

END:VCALENDAR
