BEGIN:VCALENDAR
VERSION:2.0
PRODID:-//ChamberMaster//Event Calendar 2.0//EN
METHOD:PUBLISH
X-PUBLISHED-TTL:P3D
REFRESH-INTERVAL:P3D
CALSCALE:GREGORIAN
BEGIN:VEVENT
DTSTART:20091119T223000Z
DTEND:20091120T010000Z
X-MICROSOFT-CDO-ALLDAYEVENT:FALSE
SUMMARY:Horseshoe Mixer - Attendee
DESCRIPTION:\\r\\nMember Mixers provide lots of good food\, drinks\, and time to have fun and make important business contacts.  Acting on members' request for an evening event to have more time to network with fellow members\, the BANCF will offer Member Mixers this year.  Events are reserved for members and their guests.  For more information\, please contact the BANCF office at (352) 372-5649.
X-ALT-DESC;FMTTYPE=text/html:<p><span style="font-family: Tahoma" /></p>\\r\\n<p><span style="font-family: Tahoma"><font size="3">Member Mixers provide lots of good food\, drinks\, and time to have fun and make important business contacts.<span style="mso-spacerun: yes">&nbsp\; </span>Acting on members&rsquo\; request for an evening event to have more time to network with fellow members\, the BANCF will offer Member Mixers this year.<span style="mso-spacerun: yes">&nbsp\;&nbsp\;<font face="Tahoma" size="3"><span style="font-size: 12pt\; font-family: Tahoma\; mso-fareast-font-family: &rsquo\;&rsquo\;Times New Roman&rsquo\;&rsquo\;">Events are reserved for members and their guests.&nbsp\; For more information\, please contact the BANCF office at (352) 372-5649.<o:p></o:p></span></font></span></font><o:p></o:p></span></p>
LOCATION:
UID:e.9596.2061
SEQUENCE:3
DTSTAMP:20260419T142544Z
URL:https://members.bancf.com/events/details/horseshoe-mixer-attendee-11-19-2009-2061
END:VEVENT

END:VCALENDAR
