BEGIN:VCALENDAR
VERSION:2.0
PRODID:-//ChamberMaster//Event Calendar 2.0//EN
METHOD:PUBLISH
X-PUBLISHED-TTL:P3D
REFRESH-INTERVAL:P3D
CALSCALE:GREGORIAN
BEGIN:VEVENT
DTSTART:20081212T230000Z
DTEND:20081213T043000Z
X-MICROSOFT-CDO-ALLDAYEVENT:FALSE
SUMMARY:Installation Banquet - Sponsor
DESCRIPTION:
X-ALT-DESC;FMTTYPE=text/html:
LOCATION:UF Hilton Hotel\, FL
UID:e.9596.1061
SEQUENCE:3
DTSTAMP:20260420T121144Z
URL:https://members.bancf.com/events/details/installation-banquet-sponsor-12-12-2008-1061
END:VEVENT

END:VCALENDAR
