BEGIN:VCALENDAR
VERSION:2.0
PRODID:-//ChamberMaster//Event Calendar 2.0//EN
METHOD:PUBLISH
X-PUBLISHED-TTL:P3D
REFRESH-INTERVAL:P3D
CALSCALE:GREGORIAN
BEGIN:VEVENT
DTSTART:20091211T230000Z
DTEND:20091212T040000Z
X-MICROSOFT-CDO-ALLDAYEVENT:FALSE
SUMMARY:Installation Banquet Tickets
DESCRIPTION:\\r\\n \\r\\n\\r\\nThe Installation Banquet is a much-anticipated event for members and their guests to celebrate together the association's past successes and look to the future.  Events are reserved for members and their guests.  For more information\, please contact the BANCF office at (352) 372-5649.
X-ALT-DESC;FMTTYPE=text/html:<p><span style="font-size: 12pt\; font-family: Tahoma\; mso-fareast-font-family: &rsquo\;Times New Roman&rsquo\;\; mso-ansi-language: EN-US\; mso-fareast-language: EN-US\; mso-bidi-language: AR-SA" />\\r\\n<p>&nbsp\;</p>\\r\\n</p>\\r\\n<p><span style="font-size: 12pt\; font-family: Tahoma\; mso-fareast-font-family: &rsquo\;Times New Roman&rsquo\;\; mso-ansi-language: EN-US\; mso-fareast-language: EN-US\; mso-bidi-language: AR-SA">The Installation Banquet is a much-anticipated event for members and their guests to celebrate together the association&rsquo\;s past successes and look to the future.&nbsp\;&nbsp\;<font face="Tahoma" size="3"><span style="font-size: 12pt\; font-family: Tahoma\; mso-fareast-font-family: &rsquo\;&rsquo\;Times New Roman&rsquo\;&rsquo\;">Events are reserved for members and their guests.&nbsp\; For more information\, please contact the BANCF office at (352) 372-5649.<o:p></o:p></span></font></span></p>
LOCATION:UF Hilton Hotel & Conference Center 1714 SW 34th Street Gainesville\, FL 32608
UID:e.9596.1321
SEQUENCE:3
DTSTAMP:20260419T142732Z
URL:https://members.bancf.com/events/details/installation-banquet-tickets-12-11-2009-1321
END:VEVENT

END:VCALENDAR
