BEGIN:VCALENDAR
VERSION:2.0
PRODID:-//ChamberMaster//Event Calendar 2.0//EN
METHOD:PUBLISH
X-PUBLISHED-TTL:P3D
REFRESH-INTERVAL:P3D
CALSCALE:GREGORIAN
BEGIN:VEVENT
DTSTART:20090818T200000Z
DTEND:20090818T210000Z
X-MICROSOFT-CDO-ALLDAYEVENT:FALSE
SUMMARY:Master Trades Committee
DESCRIPTION:\\r\\n The Master Trades Committee administers and determines policies for the apprenticeship program. The members are contractors and employees in the trades of electrical\, plumbing\, carpentry and heating & air conditioning.  Meetings are reserved for members and their guests.  For more information\, please contact the BANCF office at (352) 372-5649.\\r
X-ALT-DESC;FMTTYPE=text/html:<p><span style="font-size: 13pt" /></p>\\r\\n<p>&nbsp\;<font face="Times New Roman" size="4"><span style="font-size: 13pt">The Master Trades Committee</span></font> <font size="4"><span style="font-size: 13pt">administers and determines policies for the apprenticeship program. The members are contractors and employees in the trades of electrical\, plumbing\, carpentry and heating &amp\; air conditioning.&nbsp\; <font face="Tahoma" size="3"><span style="font-size: 12pt\; font-family: Tahoma\; mso-fareast-font-family: '&rsquo\;Times New Roman&rsquo\;'">Meetings are reserved for members and their guests.&nbsp\; For more information\, please contact the BANCF office at (352) 372-5649.<o:p></o:p></span></font></span></font></p>\\r\\n<o:p></o:p>
LOCATION:Builders Association of North Central Florida 2217 NW 66th Court Gainesville\, FL 32653
UID:e.9596.1587
SEQUENCE:3
DTSTAMP:20260419T222320Z
URL:https://members.bancf.com/events/details/master-trades-committee-08-18-2009-1587
END:VEVENT

END:VCALENDAR
