BEGIN:VCALENDAR
VERSION:2.0
PRODID:-//ChamberMaster//Event Calendar 2.0//EN
METHOD:PUBLISH
X-PUBLISHED-TTL:P3D
REFRESH-INTERVAL:P3D
CALSCALE:GREGORIAN
BEGIN:VEVENT
DTSTART:20090326T113000Z
DTEND:20090326T130000Z
X-MICROSOFT-CDO-ALLDAYEVENT:FALSE
SUMMARY:Member Orientation
DESCRIPTION:An informative session on the benefits of belonging to the Builders Association of North Central Florida (plus breakfast\, too). Bring your questions and suggestions\, or just your observation powers\, for an informal round-the-table gathering.  Meetings are reserved for members and their guests.  For more information\, please contact the BANCF office at (352) 372-5649.\\r\\n\\r\\n\\r
X-ALT-DESC;FMTTYPE=text/html:<p><span style="font-family: Arial"><span style="font-size: small"><span style=""><span style=""><span style=""><span style="">An informative session on the benefits of belonging to the Builders Association of North Central Florida (plus breakfast\, too). Bring your questions and suggestions\, or just your observation powers\, for an informal round-the-table gathering.<span style="">&nbsp\; <span style="font-size: 12pt\; font-family: Tahoma\; mso-fareast-font-family: &rsquo\;Times New Roman&rsquo\;\; mso-fareast-language: EN-US\; mso-ansi-language: EN-US\; mso-bidi-language: AR-SA">Meetings are reserved for members and their guests.&nbsp\; For more information\, please contact the BANCF office at (352) 372-5649.</span></span></span></span></span></span></span></span><span style="font-size: small"><span style=""><span style=""><span style="font-family: Courier New"><span style=""><span style="" /></span></span></span></span></span><span style="font-size: medium"><span style=""><span style="font-family: Courier New"><span style=""><span style="" /></span></span></span></span><span style=""><span style="font-family: Courier New"><span style=""><span style="" /></span></span></span><span style="font-size: smaller"><span style="font-family: Courier New"><span style=""><span style="" /></span></span></span><span style="font-family: Courier New"><span style="font-size: larger"><span style="" /></span></span><span style="font-size: larger"><span style="font-family: Arial" /></span>\\r\\n<p><span><span style="font-family: Arial"><span style="mso-fareast-font-family: &rsquo\;Times New Roman&rsquo\;\; mso-fareast-language: EN-US\; mso-bidi-font-size: 12.0pt\; mso-ansi-language: EN-US\; mso-bidi-language: AR-SA"><span style="font-size: 12pt\; font-family: Tahoma\; mso-fareast-font-family: &rsquo\;Times New Roman&rsquo\;\; mso-fareast-language: EN-US\; mso-ansi-language: EN-US\; mso-bidi-language: AR-SA" /></span></span></span><span><span style="font-family: Arial"><span style="mso-fareast-font-family: &rsquo\;Times New Roman&rsquo\;\; mso-fareast-language: EN-US\; mso-bidi-font-size: 12.0pt\; mso-ansi-language: EN-US\; mso-bidi-language: AR-SA"><span style="font-size: 12pt\; font-family: Tahoma\; mso-fareast-font-family: &rsquo\;Times New Roman&rsquo\;\; mso-fareast-language: EN-US\; mso-ansi-language: EN-US\; mso-bidi-language: AR-SA" /></span></span></span></p>\\r\\n</p>\\r\\n<p><span style="font-size: small"><span style="font-family: Arial"><span style="mso-fareast-font-family: &rsquo\;Times New Roman&rsquo\;\; mso-fareast-language: EN-US\; mso-bidi-font-size: 12.0pt\; mso-ansi-language: EN-US\; mso-bidi-language: AR-SA" /></span></span><span style="font-family: Arial"><span style="font-size: 21pt\; mso-fareast-font-family: &rsquo\;Times New Roman&rsquo\;\; mso-fareast-language: EN-US\; mso-bidi-font-size: 12.0pt\; mso-ansi-language: EN-US\; mso-bidi-language: AR-SA" /></span><span style="font-size: 21pt\; font-family: &quot\;Times New Roman&quot\;\; mso-fareast-font-family: &rsquo\;Times New Roman&rsquo\;\; mso-fareast-language: EN-US\; mso-bidi-font-size: 12.0pt\; mso-ansi-language: EN-US\; mso-bidi-language: AR-SA" /></p>
LOCATION:Builders Association of North Central Florida 2217 NW 66th Court Gainesville\, FL 32653
UID:e.9596.1341
SEQUENCE:3
DTSTAMP:20260420T075843Z
URL:https://members.bancf.com/events/details/member-orientation-03-26-2009-1341
END:VEVENT

END:VCALENDAR
