BEGIN:VCALENDAR
VERSION:2.0
PRODID:-//ChamberMaster//Event Calendar 2.0//EN
METHOD:PUBLISH
X-PUBLISHED-TTL:P3D
REFRESH-INTERVAL:P3D
CALSCALE:GREGORIAN
BEGIN:VEVENT
DTSTART:20090603T193000Z
DTEND:20090603T203000Z
X-MICROSOFT-CDO-ALLDAYEVENT:FALSE
SUMMARY:Membership Committee Meeting
DESCRIPTION:Committee meets to create and implement strategies for recruitment and retention.
X-ALT-DESC;FMTTYPE=text/html:<p>Committee meets to create and implement strategies for recruitment and retention.</p>
LOCATION:Builders Association of North Central Florida 2217 NW 66th Court Gainesville\, FL 32653
UID:e.9596.1743
SEQUENCE:3
DTSTAMP:20260420T052718Z
URL:https://members.bancf.com/events/details/membership-committee-meeting-06-03-2009-1743
END:VEVENT

END:VCALENDAR
