BEGIN:VCALENDAR
VERSION:2.0
PRODID:-//ChamberMaster//Event Calendar 2.0//EN
METHOD:PUBLISH
X-PUBLISHED-TTL:P3D
REFRESH-INTERVAL:P3D
CALSCALE:GREGORIAN
BEGIN:VEVENT
DTSTART:20091118T130000Z
DTEND:20091118T220000Z
X-MICROSOFT-CDO-ALLDAYEVENT:FALSE
SUMMARY:Membership Drive
DESCRIPTION:If you are interested in participating in the Membership Drive\, please contact the BANCF office at (352) 372-5649.
X-ALT-DESC;FMTTYPE=text/html:<p>If you are interested in participating in the Membership Drive\, please contact the BANCF office at (352) 372-5649.</p>
LOCATION:Builders Association of North Central Florida 2217 NW 66th Court Gainesville\, FL 32653
UID:e.9596.2202
SEQUENCE:3
DTSTAMP:20260419T201551Z
URL:https://members.bancf.com/events/details/membership-drive-11-18-2009-2202
END:VEVENT

END:VCALENDAR
