BEGIN:VCALENDAR
VERSION:2.0
PRODID:-//ChamberMaster//Event Calendar 2.0//EN
METHOD:PUBLISH
X-PUBLISHED-TTL:P3D
REFRESH-INTERVAL:P3D
CALSCALE:GREGORIAN
BEGIN:VEVENT
DTSTART:20090625T154500Z
DTEND:20090625T170000Z
X-MICROSOFT-CDO-ALLDAYEVENT:FALSE
SUMMARY:Membership Meeting - June 2009
DESCRIPTION:The members of the Builders Association of North Central Florida meet about once a month. These luncheon meetings are a great way to make contacts\, network\, and find out what's going on in the industry and the community.  Meetings are reserved for members and their guests.  For more information\, please contact the BANCF office at (352) 372-5649.
X-ALT-DESC;FMTTYPE=text/html:<p><span style="font-size: 12pt\; font-family: Tahoma\; mso-fareast-font-family: &rsquo\;Times New Roman&rsquo\;\; mso-fareast-language: EN-US\; mso-ansi-language: EN-US\; mso-bidi-language: AR-SA">The members of the Builders Association of North Central Florida meet about once a month. These luncheon meetings are a great way to make contacts\, network\, and find out what&rsquo\;s going on in the industry and the community.&nbsp\; <font face="Tahoma" size="3"><span style="font-size: 12pt\; font-family: Tahoma\; mso-fareast-font-family: '&rsquo\;Times New Roman&rsquo\;'">Meetings are reserved for members and their guests.&nbsp\; For more information\, please contact the BANCF office at (352) 372-5649.<o:p></o:p></span></font></span></p>
LOCATION:Best Western Gateway Grand 4200 NW 97th Blvd Gainesville\, FL 32606
UID:e.9596.1358
SEQUENCE:3
DTSTAMP:20260420T052635Z
URL:https://members.bancf.com/events/details/membership-meeting-june-2009-06-25-2009-1358
END:VEVENT

END:VCALENDAR
