BEGIN:VCALENDAR
VERSION:2.0
PRODID:-//ChamberMaster//Event Calendar 2.0//EN
METHOD:PUBLISH
X-PUBLISHED-TTL:P3D
REFRESH-INTERVAL:P3D
CALSCALE:GREGORIAN
BEGIN:VEVENT
DTSTART:20090930T120000Z
DTEND:20091004T210000Z
X-MICROSOFT-CDO-ALLDAYEVENT:FALSE
SUMMARY:NAHB Fall Board Meeting
DESCRIPTION:
X-ALT-DESC;FMTTYPE=text/html:
LOCATION:Chicago
UID:e.9596.1506
SEQUENCE:3
DTSTAMP:20260419T222321Z
URL:https://members.bancf.com/events/details/nahb-fall-board-meeting-09-30-2009-1506
END:VEVENT

END:VCALENDAR
