BEGIN:VCALENDAR
VERSION:2.0
PRODID:-//ChamberMaster//Event Calendar 2.0//EN
METHOD:PUBLISH
X-PUBLISHED-TTL:P3D
REFRESH-INTERVAL:P3D
CALSCALE:GREGORIAN
BEGIN:VEVENT
DTSTART:20090314T140000Z
DTEND:20090315T210000Z
X-MICROSOFT-CDO-ALLDAYEVENT:FALSE
SUMMARY:North Central Florida Home Show
DESCRIPTION:The Builders Association of North Central Florida and the Gainesville Sun team up to present this annual home and garden show event\, which includes exhibit booths\, seminars\, and farmer's market!  For more information on this event or to reserve your booth for next year\, email or call the BANCF Office beth@bancf.com or (352) 372-5649\, or email or call Vonda Jackson at The Gainesville Sun (352) 374-5012 or vonda.jackson@gvillesun.com.\\r
X-ALT-DESC;FMTTYPE=text/html:<p class="MsoNormal" style="margin: 0in 0in 0pt 0.5in"><span style="color: #333333\; font-family: Tahoma\; mso-bidi-font-size: 10.0pt"><font size="3">The Builders Association of North Central Florida and the Gainesville Sun team up to present this annual home and garden show event\, which includes exhibit booths\, seminars\, and farmer&rsquo\;s market!&nbsp\;&nbsp\;</font></span><span style="color: #333333\; font-family: Tahoma\; mso-bidi-font-size: 10.0pt"><font size="3">For more information on this event or to reserve your booth for next year\, email or call the BANCF Office beth@bancf.com or (352) 372-5649\, or email or call Vonda Jackson at The Gainesville Sun (352) 374-5012 or vonda.jackson@gvillesun.com.<o:p></o:p></font></span></p>\\r\\n<p>&nbsp\;</p>
LOCATION:Stephen C. O'Connell Center at the University of Florida University Avenue & Lemerand Drive Gainesville\, FL 32611
UID:e.9596.1221
SEQUENCE:3
DTSTAMP:20260420T080132Z
URL:https://members.bancf.com/events/details/north-central-florida-home-show-03-14-2009-1221
END:VEVENT

END:VCALENDAR
