BEGIN:VCALENDAR
VERSION:2.0
PRODID:-//ChamberMaster//Event Calendar 2.0//EN
METHOD:PUBLISH
X-PUBLISHED-TTL:P3D
REFRESH-INTERVAL:P3D
CALSCALE:GREGORIAN
BEGIN:VEVENT
DTSTART:20091116T190000Z
DTEND:20091116T210000Z
X-MICROSOFT-CDO-ALLDAYEVENT:FALSE
SUMMARY:PACE Groundbreaking Ceremony
DESCRIPTION:The PACE Center for Girls is finally realizing a dream that was put in place nearly four years ago.  They have purchased the building they were renting and are now about to begin a 4000 square foot\, seven-classroom addition.  The original building will be remodeled and used for counseling\, administrative offices\, social service agency meetings and large assemblies for students and parents.  Join special ambassador Mary Wise and the PACE Board of Directors at the ground breaking ceremony for our new addition.\\r\\n \\r\\nA special thank you is extended to the Builders Association of North Central Florida.  For without their support and the commitment from their members this would not have been possible.\\r\\n \\r\\nPlease RSVP to Kate Scott at the PACE Center for Girls at Kate.Scott@pacecenter.org or by calling 352-374-8799.
X-ALT-DESC;FMTTYPE=text/html:<p class="MsoNormal" style="margin: 0in 0in 0pt"><font size="3"><font face="Cambria">The <st1:place w:st="on"><st1:placename w:st="on">PACE</st1:placename> <st1:placetype w:st="on">Center</st1:placetype></st1:place> for Girls is finally realizing a dream that was put in place nearly four years ago.&nbsp\;&nbsp\;They have purchased the building&nbsp\;they were renting and are now about to begin a 4000 square foot\, seven-classroom addition.&nbsp\; The original building will be remodeled and used for counseling\, administrative offices\, social service agency meetings and large assemblies for students and parents.&nbsp\;&nbsp\;</font></font><font size="3"><font face="Cambria">Join special ambassador Mary Wise and the PACE Board of Directors at the ground breaking ceremony for our new addition.<o:p></o:p></font></font></p>\\r\\n<p class="MsoNormal" style="margin: 0in 0in 0pt"><o:p><font face="Cambria" size="3">&nbsp\;</font></o:p></p>\\r\\n<p class="MsoNormal" style="margin: 0in 0in 0pt"><o:p></o:p><font size="3"><font face="Cambria">A special thank you is extended to the Builders Association of North Central Florida.&nbsp\; For without their support and the commitment from their members this would not have been possible.<o:p></o:p></font></font></p>\\r\\n<p class="MsoNormal" style="margin: 0in 0in 0pt"><o:p><font face="Cambria" size="3">&nbsp\;</font></o:p></p>\\r\\n<p class="MsoNormal" style="margin: 0in 0in 0pt"><font face="Cambria" size="3">Please RSVP to Kate Scott at the <st1:place w:st="on"><st1:placename w:st="on">PACE</st1:placename> <st1:placetype w:st="on">Center</st1:placetype></st1:place> for Girls at </font><a href="mailto:Kate.Scott@pacecenter.org"><font face="Cambria" size="3">Kate.Scott@pacecenter.org</font></a><font size="3"><font face="Cambria"> or by calling 352-374-8799.&nbsp\;&nbsp\; </font></font></p>
LOCATION:PACE Center for Girls 1010 SE 4th Avenue Gainesville\, FL 32601-6907
UID:e.9596.2183
SEQUENCE:3
DTSTAMP:20260419T142211Z
URL:https://members.bancf.com/events/details/pace-groundbreaking-ceremony-11-16-2009-2183
END:VEVENT

END:VCALENDAR
