BEGIN:VCALENDAR
VERSION:2.0
PRODID:-//ChamberMaster//Event Calendar 2.0//EN
METHOD:PUBLISH
X-PUBLISHED-TTL:P3D
REFRESH-INTERVAL:P3D
CALSCALE:GREGORIAN
BEGIN:VEVENT
DTSTART:20090728T140000Z
DTEND:20090728T150000Z
X-MICROSOFT-CDO-ALLDAYEVENT:FALSE
SUMMARY:Parade Committee Meeting
DESCRIPTION:Call the BANCF office at (352) 372-5649 for more details.
X-ALT-DESC;FMTTYPE=text/html:<p>Call the BANCF office at (352) 372-5649 for more details.</p>
LOCATION:Builders Association of North Central Florida 2217 NW 66th Court Gainesville\, FL
UID:e.9596.2021
SEQUENCE:3
DTSTAMP:20260420T034432Z
URL:https://members.bancf.com/events/details/parade-committee-meeting-07-28-2009-2021
END:VEVENT

END:VCALENDAR
