BEGIN:VCALENDAR
VERSION:2.0
PRODID:-//ChamberMaster//Event Calendar 2.0//EN
METHOD:PUBLISH
X-PUBLISHED-TTL:P3D
REFRESH-INTERVAL:P3D
CALSCALE:GREGORIAN
BEGIN:VEVENT
DTSTART:20090730T160000Z
DTEND:20090730T170000Z
X-MICROSOFT-CDO-ALLDAYEVENT:FALSE
SUMMARY:Silent Auction Committee Meeting
DESCRIPTION:Committee Meetings are held to plan the Silent Auction to be held at the Member Mixer on August 20\, 2009.  If you'd like to be a part of the committee\, please contact the BANCF office at (352) 372-5649 or beth@bancf.com.
X-ALT-DESC;FMTTYPE=text/html:<p class="MsoSubtitle" style="margin: 0in 0in 0pt"><font size="3"><font face="Times New Roman"><span style="font-weight: normal">Committee Meetings are held to plan the </span><strong>Silent Auction </strong>to be held at the Member Mixer on August 20\, 2009<strong>.&nbsp\; </strong>If you&rsquo\;d like to be a part of the committee\, please contact the BANCF office at (352) 372-5649 or <a href="mailto:beth@bancf.com">beth@bancf.com</a>.&nbsp\; </font></font></p>
LOCATION:Call the BANCF office (352) 372-5649 for details.
UID:e.9596.2022
SEQUENCE:3
DTSTAMP:20260420T052815Z
URL:https://members.bancf.com/events/details/silent-auction-committee-meeting-07-30-2009-2022
END:VEVENT

END:VCALENDAR
