BEGIN:VCALENDAR
VERSION:2.0
PRODID:-//ChamberMaster//Event Calendar 2.0//EN
METHOD:PUBLISH
X-PUBLISHED-TTL:P3D
REFRESH-INTERVAL:P3D
CALSCALE:GREGORIAN
BEGIN:VEVENT
DTSTART:20090828T213000Z
DTEND:20090829T000000Z
X-MICROSOFT-CDO-ALLDAYEVENT:FALSE
SUMMARY:Silent Auction - Items Billed
DESCRIPTION:\\r\\nMember  Mixers provide lots of good food\, drinks\, and time to have fun and make  important business contacts.  Events are reserved for members and their  guests.  For more information\, please contact the BANCF office at (352)  372-5649.
X-ALT-DESC;FMTTYPE=text/html:<p><span style="font-family: Tahoma\;" /></p>\\r\\n<p><span style="font-size: larger\;"><span style="font-family: Tahoma\;">Member  Mixers provide lots of good food\, drinks\, and time to have fun and make  important business contacts.&nbsp\; <font face="Tahoma"><span style="font-family: Tahoma\;">Events are reserved for members and their  guests.&nbsp\; For more information\, please contact the BANCF office at (352)  372-5649.</span></font></span></span><span style="font-family: Tahoma\;"><font size="3"><span style=""><font size="3" face="Tahoma"><span style="font-size: 12pt\; font-family: Tahoma\;"><o:p></o:p></span></font></span></font><o:p></o:p></span></p>
LOCATION:Santa Fe College 3000 NW 83rd Street Gainesville\, FL 32606
UID:e.9596.2081
SEQUENCE:3
DTSTAMP:20260419T222403Z
URL:https://members.bancf.com/events/details/silent-auction-items-billed-08-28-2009-2081
END:VEVENT

END:VCALENDAR
